BEGIN:VCALENDAR
VERSION:2.0
PRODID:-//Animal Friends - ECPv6.15.20//NONSGML v1.0//EN
CALSCALE:GREGORIAN
METHOD:PUBLISH
X-ORIGINAL-URL:https://thinkingoutsidethecage.org
X-WR-CALDESC:Events for Animal Friends
REFRESH-INTERVAL;VALUE=DURATION:PT1H
X-Robots-Tag:noindex
X-PUBLISHED-TTL:PT1H
BEGIN:VTIMEZONE
TZID:America/New_York
BEGIN:DAYLIGHT
TZOFFSETFROM:-0500
TZOFFSETTO:-0400
TZNAME:EDT
DTSTART:20240310T070000
END:DAYLIGHT
BEGIN:STANDARD
TZOFFSETFROM:-0400
TZOFFSETTO:-0500
TZNAME:EST
DTSTART:20241103T060000
END:STANDARD
BEGIN:DAYLIGHT
TZOFFSETFROM:-0500
TZOFFSETTO:-0400
TZNAME:EDT
DTSTART:20250309T070000
END:DAYLIGHT
BEGIN:STANDARD
TZOFFSETFROM:-0400
TZOFFSETTO:-0500
TZNAME:EST
DTSTART:20251102T060000
END:STANDARD
BEGIN:DAYLIGHT
TZOFFSETFROM:-0500
TZOFFSETTO:-0400
TZNAME:EDT
DTSTART:20260308T070000
END:DAYLIGHT
BEGIN:STANDARD
TZOFFSETFROM:-0400
TZOFFSETTO:-0500
TZNAME:EST
DTSTART:20261101T060000
END:STANDARD
END:VTIMEZONE
BEGIN:VEVENT
DTSTART;TZID=America/New_York:20250916T184000
DTEND;TZID=America/New_York:20250916T214000
DTSTAMP:20260422T134354
CREATED:20250417T162800Z
LAST-MODIFIED:20250417T162800Z
UID:10000777-1758048000-1758058800@thinkingoutsidethecage.org
SUMMARY:Pup Night at PNC Park
DESCRIPTION:Barks\, Beverages & Baseball – Calling all Dog Lovers and Baseball Fans!\n\nAnimal Friends is teaming up with the Pittsburgh Pirates and Tito’s Handmade Vodka for a tail-wagging good time during the 2025 baseball season — and it’s all for a great cause.\nJoin us for Pup Nights at PNC Park\, held every Tuesday night throughout the season. Bring your pup and cheer on the Pirates during some of the most dog-friendly nights in sports!\nHere’s the best part: For every Tito’s drink sold during Pup Nights\, a portion of the proceeds will be donated back to Animal Friends to provide food\, shelter and medical care for our adoptable animals waiting for homes. Sip for a cause . . . and save a life!\n\nEach Pup Night ticket package includes:· One (1) Rooftop seat (Sections 335–339)· One (1) complimentary dog ticket (limit one dog per person) Tickets are limited and go fast — don’t miss out!\n\nCome experience Pup Nights and see what all the bark is about. It’s the perfect combo of baseball\, chilled beverages\, and your best friend — all while supporting Animal Friends. Get your tickets today at https://www.mlb.com/…/tickets/promotions/themes/pup-night\n\nClick on the Special Tickets tab to fetch your Pup Night package!\nLet’s play ball — and wag some tails!
URL:https://thinkingoutsidethecage.org/event/pup-night-at-pnc-park-10/
LOCATION:PNC Park\, 115 Federal St\, Pittsburgh\, PA\, 15212\, United States
CATEGORIES:Events
ATTACH;FMTTYPE=image/jpeg:https://thinkingoutsidethecage.org/wp-content/uploads/484068958_1058894859612464_1343537333761028421_n.jpg
END:VEVENT
BEGIN:VEVENT
DTSTART;TZID=America/New_York:20250902T184000
DTEND;TZID=America/New_York:20250902T214000
DTSTAMP:20260422T134354
CREATED:20250417T162716Z
LAST-MODIFIED:20250417T162716Z
UID:10000776-1756838400-1756849200@thinkingoutsidethecage.org
SUMMARY:Pup Night at PNC Park
DESCRIPTION:Barks\, Beverages & Baseball – Calling all Dog Lovers and Baseball Fans!\n\nAnimal Friends is teaming up with the Pittsburgh Pirates and Tito’s Handmade Vodka for a tail-wagging good time during the 2025 baseball season — and it’s all for a great cause.\nJoin us for Pup Nights at PNC Park\, held every Tuesday night throughout the season. Bring your pup and cheer on the Pirates during some of the most dog-friendly nights in sports!\nHere’s the best part: For every Tito’s drink sold during Pup Nights\, a portion of the proceeds will be donated back to Animal Friends to provide food\, shelter and medical care for our adoptable animals waiting for homes. Sip for a cause . . . and save a life!\n\nEach Pup Night ticket package includes:· One (1) Rooftop seat (Sections 335–339)· One (1) complimentary dog ticket (limit one dog per person) Tickets are limited and go fast — don’t miss out!\n\nCome experience Pup Nights and see what all the bark is about. It’s the perfect combo of baseball\, chilled beverages\, and your best friend — all while supporting Animal Friends. Get your tickets today at https://www.mlb.com/…/tickets/promotions/themes/pup-night\n\nClick on the Special Tickets tab to fetch your Pup Night package!\nLet’s play ball — and wag some tails!
URL:https://thinkingoutsidethecage.org/event/pup-night-at-pnc-park-9/
LOCATION:PNC Park\, 115 Federal St\, Pittsburgh\, PA\, 15212\, United States
CATEGORIES:Events
ATTACH;FMTTYPE=image/jpeg:https://thinkingoutsidethecage.org/wp-content/uploads/484068958_1058894859612464_1343537333761028421_n.jpg
END:VEVENT
BEGIN:VEVENT
DTSTART;TZID=America/New_York:20250819T184000
DTEND;TZID=America/New_York:20250819T214000
DTSTAMP:20260422T134354
CREATED:20250417T162631Z
LAST-MODIFIED:20250417T162631Z
UID:10000775-1755628800-1755639600@thinkingoutsidethecage.org
SUMMARY:Pup Night at PNC Park
DESCRIPTION:Barks\, Beverages & Baseball – Calling all Dog Lovers and Baseball Fans!\n\nAnimal Friends is teaming up with the Pittsburgh Pirates and Tito’s Handmade Vodka for a tail-wagging good time during the 2025 baseball season — and it’s all for a great cause.\nJoin us for Pup Nights at PNC Park\, held every Tuesday night throughout the season. Bring your pup and cheer on the Pirates during some of the most dog-friendly nights in sports!\nHere’s the best part: For every Tito’s drink sold during Pup Nights\, a portion of the proceeds will be donated back to Animal Friends to provide food\, shelter and medical care for our adoptable animals waiting for homes. Sip for a cause . . . and save a life!\n\nEach Pup Night ticket package includes:· One (1) Rooftop seat (Sections 335–339)· One (1) complimentary dog ticket (limit one dog per person) Tickets are limited and go fast — don’t miss out!\n\nCome experience Pup Nights and see what all the bark is about. It’s the perfect combo of baseball\, chilled beverages\, and your best friend — all while supporting Animal Friends. Get your tickets today at https://www.mlb.com/…/tickets/promotions/themes/pup-night\n\nClick on the Special Tickets tab to fetch your Pup Night package!\nLet’s play ball — and wag some tails!
URL:https://thinkingoutsidethecage.org/event/pup-night-at-pnc-park-8/
LOCATION:PNC Park\, 115 Federal St\, Pittsburgh\, PA\, 15212\, United States
CATEGORIES:Events
ATTACH;FMTTYPE=image/jpeg:https://thinkingoutsidethecage.org/wp-content/uploads/484068958_1058894859612464_1343537333761028421_n.jpg
END:VEVENT
BEGIN:VEVENT
DTSTART;TZID=America/New_York:20250804T184000
DTEND;TZID=America/New_York:20250804T214000
DTSTAMP:20260422T134354
CREATED:20250417T162517Z
LAST-MODIFIED:20250417T162517Z
UID:10000774-1754332800-1754343600@thinkingoutsidethecage.org
SUMMARY:Pup Night at PNC Park
DESCRIPTION:Barks\, Beverages & Baseball – Calling all Dog Lovers and Baseball Fans!\n\nAnimal Friends is teaming up with the Pittsburgh Pirates and Tito’s Handmade Vodka for a tail-wagging good time during the 2025 baseball season — and it’s all for a great cause.\nJoin us for Pup Nights at PNC Park\, held every Tuesday night throughout the season. Bring your pup and cheer on the Pirates during some of the most dog-friendly nights in sports!\nHere’s the best part: For every Tito’s drink sold during Pup Nights\, a portion of the proceeds will be donated back to Animal Friends to provide food\, shelter and medical care for our adoptable animals waiting for homes. Sip for a cause . . . and save a life!\n\nEach Pup Night ticket package includes:· One (1) Rooftop seat (Sections 335–339)· One (1) complimentary dog ticket (limit one dog per person) Tickets are limited and go fast — don’t miss out!\n\nCome experience Pup Nights and see what all the bark is about. It’s the perfect combo of baseball\, chilled beverages\, and your best friend — all while supporting Animal Friends. Get your tickets today at https://www.mlb.com/…/tickets/promotions/themes/pup-night\n\nClick on the Special Tickets tab to fetch your Pup Night package!\nLet’s play ball — and wag some tails!
URL:https://thinkingoutsidethecage.org/event/pup-night-at-pnc-park-7/
LOCATION:PNC Park\, 115 Federal St\, Pittsburgh\, PA\, 15212\, United States
CATEGORIES:Events
ATTACH;FMTTYPE=image/jpeg:https://thinkingoutsidethecage.org/wp-content/uploads/484068958_1058894859612464_1343537333761028421_n.jpg
END:VEVENT
BEGIN:VEVENT
DTSTART;TZID=America/New_York:20250722T184000
DTEND;TZID=America/New_York:20250722T214000
DTSTAMP:20260422T134354
CREATED:20250417T162408Z
LAST-MODIFIED:20250417T162452Z
UID:10000773-1753209600-1753220400@thinkingoutsidethecage.org
SUMMARY:Pup Night at PNC Park
DESCRIPTION:Barks\, Beverages & Baseball – Calling all Dog Lovers and Baseball Fans!\n\nAnimal Friends is teaming up with the Pittsburgh Pirates and Tito’s Handmade Vodka for a tail-wagging good time during the 2025 baseball season — and it’s all for a great cause.\nJoin us for Pup Nights at PNC Park\, held every Tuesday night throughout the season. Bring your pup and cheer on the Pirates during some of the most dog-friendly nights in sports!\nHere’s the best part: For every Tito’s drink sold during Pup Nights\, a portion of the proceeds will be donated back to Animal Friends to provide food\, shelter and medical care for our adoptable animals waiting for homes. Sip for a cause . . . and save a life!\n\nEach Pup Night ticket package includes:· One (1) Rooftop seat (Sections 335–339)· One (1) complimentary dog ticket (limit one dog per person) Tickets are limited and go fast — don’t miss out!\n\nCome experience Pup Nights and see what all the bark is about. It’s the perfect combo of baseball\, chilled beverages\, and your best friend — all while supporting Animal Friends. Get your tickets today at https://www.mlb.com/…/tickets/promotions/themes/pup-night\n\nClick on the Special Tickets tab to fetch your Pup Night package!\nLet’s play ball — and wag some tails!
URL:https://thinkingoutsidethecage.org/event/pup-night-at-pnc-park-6/
LOCATION:PNC Park\, 115 Federal St\, Pittsburgh\, PA\, 15212\, United States
CATEGORIES:Events
ATTACH;FMTTYPE=image/jpeg:https://thinkingoutsidethecage.org/wp-content/uploads/484068958_1058894859612464_1343537333761028421_n.jpg
END:VEVENT
BEGIN:VEVENT
DTSTART;TZID=America/New_York:20250701T184000
DTEND;TZID=America/New_York:20250701T214000
DTSTAMP:20260422T134354
CREATED:20250417T162336Z
LAST-MODIFIED:20250417T162336Z
UID:10000772-1751395200-1751406000@thinkingoutsidethecage.org
SUMMARY:Pup Night at PNC Park
DESCRIPTION:Barks\, Beverages & Baseball – Calling all Dog Lovers and Baseball Fans!\n\nAnimal Friends is teaming up with the Pittsburgh Pirates and Tito’s Handmade Vodka for a tail-wagging good time during the 2025 baseball season — and it’s all for a great cause.\nJoin us for Pup Nights at PNC Park\, held every Tuesday night throughout the season. Bring your pup and cheer on the Pirates during some of the most dog-friendly nights in sports!\nHere’s the best part: For every Tito’s drink sold during Pup Nights\, a portion of the proceeds will be donated back to Animal Friends to provide food\, shelter and medical care for our adoptable animals waiting for homes. Sip for a cause . . . and save a life!\n\nEach Pup Night ticket package includes:· One (1) Rooftop seat (Sections 335–339)· One (1) complimentary dog ticket (limit one dog per person) Tickets are limited and go fast — don’t miss out!\n\nCome experience Pup Nights and see what all the bark is about. It’s the perfect combo of baseball\, chilled beverages\, and your best friend — all while supporting Animal Friends. Get your tickets today at https://www.mlb.com/…/tickets/promotions/themes/pup-night\n\nClick on the Special Tickets tab to fetch your Pup Night package!\nLet’s play ball — and wag some tails!
URL:https://thinkingoutsidethecage.org/event/pup-night-at-pnc-park-5/
LOCATION:PNC Park\, 115 Federal St\, Pittsburgh\, PA\, 15212\, United States
CATEGORIES:Events
ATTACH;FMTTYPE=image/jpeg:https://thinkingoutsidethecage.org/wp-content/uploads/484068958_1058894859612464_1343537333761028421_n.jpg
END:VEVENT
BEGIN:VEVENT
DTSTART;TZID=America/New_York:20250610T184000
DTEND;TZID=America/New_York:20250610T214000
DTSTAMP:20260422T134354
CREATED:20250417T162206Z
LAST-MODIFIED:20250417T162206Z
UID:10000771-1749580800-1749591600@thinkingoutsidethecage.org
SUMMARY:Pup Night at PNC Park
DESCRIPTION:Barks\, Beverages & Baseball – Calling all Dog Lovers and Baseball Fans!\n\nAnimal Friends is teaming up with the Pittsburgh Pirates and Tito’s Handmade Vodka for a tail-wagging good time during the 2025 baseball season — and it’s all for a great cause.\nJoin us for Pup Nights at PNC Park\, held every Tuesday night throughout the season. Bring your pup and cheer on the Pirates during some of the most dog-friendly nights in sports!\nHere’s the best part: For every Tito’s drink sold during Pup Nights\, a portion of the proceeds will be donated back to Animal Friends to provide food\, shelter and medical care for our adoptable animals waiting for homes. Sip for a cause . . . and save a life!\n\nEach Pup Night ticket package includes:· One (1) Rooftop seat (Sections 335–339)· One (1) complimentary dog ticket (limit one dog per person) Tickets are limited and go fast — don’t miss out!\n\nCome experience Pup Nights and see what all the bark is about. It’s the perfect combo of baseball\, chilled beverages\, and your best friend — all while supporting Animal Friends. Get your tickets today at https://www.mlb.com/…/tickets/promotions/themes/pup-night\n\nClick on the Special Tickets tab to fetch your Pup Night package!\nLet’s play ball — and wag some tails!
URL:https://thinkingoutsidethecage.org/event/pup-night-at-pnc-park-4/
LOCATION:PNC Park\, 115 Federal St\, Pittsburgh\, PA\, 15212\, United States
CATEGORIES:Events
ATTACH;FMTTYPE=image/jpeg:https://thinkingoutsidethecage.org/wp-content/uploads/484068958_1058894859612464_1343537333761028421_n.jpg
END:VEVENT
BEGIN:VEVENT
DTSTART;TZID=America/New_York:20250603T184000
DTEND;TZID=America/New_York:20250603T214000
DTSTAMP:20260422T134354
CREATED:20250417T162040Z
LAST-MODIFIED:20250417T162040Z
UID:10000770-1748976000-1748986800@thinkingoutsidethecage.org
SUMMARY:Pup Night at PNC Park
DESCRIPTION:Barks\, Beverages & Baseball – Calling all Dog Lovers and Baseball Fans!\n\nAnimal Friends is teaming up with the Pittsburgh Pirates and Tito’s Handmade Vodka for a tail-wagging good time during the 2025 baseball season — and it’s all for a great cause.\nJoin us for Pup Nights at PNC Park\, held every Tuesday night throughout the season. Bring your pup and cheer on the Pirates during some of the most dog-friendly nights in sports!\nHere’s the best part: For every Tito’s drink sold during Pup Nights\, a portion of the proceeds will be donated back to Animal Friends to provide food\, shelter and medical care for our adoptable animals waiting for homes. Sip for a cause . . . and save a life!\n\nEach Pup Night ticket package includes:· One (1) Rooftop seat (Sections 335–339)· One (1) complimentary dog ticket (limit one dog per person) Tickets are limited and go fast — don’t miss out!\n\nCome experience Pup Nights and see what all the bark is about. It’s the perfect combo of baseball\, chilled beverages\, and your best friend — all while supporting Animal Friends. Get your tickets today at https://www.mlb.com/…/tickets/promotions/themes/pup-night\n\nClick on the Special Tickets tab to fetch your Pup Night package!\nLet’s play ball — and wag some tails!
URL:https://thinkingoutsidethecage.org/event/pup-night-at-pnc-park-3/
LOCATION:PNC Park\, 115 Federal St\, Pittsburgh\, PA\, 15212\, United States
CATEGORIES:Events
ATTACH;FMTTYPE=image/jpeg:https://thinkingoutsidethecage.org/wp-content/uploads/484068958_1058894859612464_1343537333761028421_n.jpg
END:VEVENT
BEGIN:VEVENT
DTSTART;TZID=America/New_York:20250520T184000
DTEND;TZID=America/New_York:20250520T214000
DTSTAMP:20260422T134354
CREATED:20250417T161951Z
LAST-MODIFIED:20250417T161951Z
UID:10000769-1747766400-1747777200@thinkingoutsidethecage.org
SUMMARY:Pup Night at PNC Park
DESCRIPTION:Barks\, Beverages & Baseball – Calling all Dog Lovers and Baseball Fans!\n\nAnimal Friends is teaming up with the Pittsburgh Pirates and Tito’s Handmade Vodka for a tail-wagging good time during the 2025 baseball season — and it’s all for a great cause.\nJoin us for Pup Nights at PNC Park\, held every Tuesday night throughout the season. Bring your pup and cheer on the Pirates during some of the most dog-friendly nights in sports!\nHere’s the best part: For every Tito’s drink sold during Pup Nights\, a portion of the proceeds will be donated back to Animal Friends to provide food\, shelter and medical care for our adoptable animals waiting for homes. Sip for a cause . . . and save a life!\n\nEach Pup Night ticket package includes:· One (1) Rooftop seat (Sections 335–339)· One (1) complimentary dog ticket (limit one dog per person) Tickets are limited and go fast — don’t miss out!\n\nCome experience Pup Nights and see what all the bark is about. It’s the perfect combo of baseball\, chilled beverages\, and your best friend — all while supporting Animal Friends. Get your tickets today at https://www.mlb.com/…/tickets/promotions/themes/pup-night\n\nClick on the Special Tickets tab to fetch your Pup Night package!\nLet’s play ball — and wag some tails!
URL:https://thinkingoutsidethecage.org/event/pup-night-at-pnc-park-2/
LOCATION:PNC Park\, 115 Federal St\, Pittsburgh\, PA\, 15212\, United States
CATEGORIES:Events
ATTACH;FMTTYPE=image/jpeg:https://thinkingoutsidethecage.org/wp-content/uploads/484068958_1058894859612464_1343537333761028421_n.jpg
END:VEVENT
BEGIN:VEVENT
DTSTART;TZID=America/New_York:20250429T184000
DTEND;TZID=America/New_York:20250429T214000
DTSTAMP:20260422T134354
CREATED:20250417T161851Z
LAST-MODIFIED:20250417T161851Z
UID:10000768-1745952000-1745962800@thinkingoutsidethecage.org
SUMMARY:Pup Night at PNC Park
DESCRIPTION:Barks\, Beverages & Baseball – Calling all Dog Lovers and Baseball Fans!\n\nAnimal Friends is teaming up with the Pittsburgh Pirates and Tito’s Handmade Vodka for a tail-wagging good time during the 2025 baseball season — and it’s all for a great cause.\nJoin us for Pup Nights at PNC Park\, held every Tuesday night throughout the season. Bring your pup and cheer on the Pirates during some of the most dog-friendly nights in sports!\nHere’s the best part: For every Tito’s drink sold during Pup Nights\, a portion of the proceeds will be donated back to Animal Friends to provide food\, shelter and medical care for our adoptable animals waiting for homes. Sip for a cause . . . and save a life!\n\nEach Pup Night ticket package includes:· One (1) Rooftop seat (Sections 335–339)· One (1) complimentary dog ticket (limit one dog per person) Tickets are limited and go fast — don’t miss out!\n\nCome experience Pup Nights and see what all the bark is about. It’s the perfect combo of baseball\, chilled beverages\, and your best friend — all while supporting Animal Friends. Get your tickets today at https://www.mlb.com/…/tickets/promotions/themes/pup-night\n\nClick on the Special Tickets tab to fetch your Pup Night package!\nLet’s play ball — and wag some tails!
URL:https://thinkingoutsidethecage.org/event/pup-night-at-pnc-park/
LOCATION:PNC Park\, 115 Federal St\, Pittsburgh\, PA\, 15212\, United States
CATEGORIES:Events
ATTACH;FMTTYPE=image/jpeg:https://thinkingoutsidethecage.org/wp-content/uploads/484068958_1058894859612464_1343537333761028421_n.jpg
END:VEVENT
END:VCALENDAR