BEGIN:VCALENDAR
VERSION:2.0
PRODID:-//Animal Friends - ECPv6.15.20//NONSGML v1.0//EN
CALSCALE:GREGORIAN
METHOD:PUBLISH
X-WR-CALNAME:Animal Friends
X-ORIGINAL-URL:https://thinkingoutsidethecage.org
X-WR-CALDESC:Events for Animal Friends
REFRESH-INTERVAL;VALUE=DURATION:PT1H
X-Robots-Tag:noindex
X-PUBLISHED-TTL:PT1H
BEGIN:VTIMEZONE
TZID:America/New_York
BEGIN:DAYLIGHT
TZOFFSETFROM:-0500
TZOFFSETTO:-0400
TZNAME:EDT
DTSTART:20240310T070000
END:DAYLIGHT
BEGIN:STANDARD
TZOFFSETFROM:-0400
TZOFFSETTO:-0500
TZNAME:EST
DTSTART:20241103T060000
END:STANDARD
BEGIN:DAYLIGHT
TZOFFSETFROM:-0500
TZOFFSETTO:-0400
TZNAME:EDT
DTSTART:20250309T070000
END:DAYLIGHT
BEGIN:STANDARD
TZOFFSETFROM:-0400
TZOFFSETTO:-0500
TZNAME:EST
DTSTART:20251102T060000
END:STANDARD
BEGIN:DAYLIGHT
TZOFFSETFROM:-0500
TZOFFSETTO:-0400
TZNAME:EDT
DTSTART:20260308T070000
END:DAYLIGHT
BEGIN:STANDARD
TZOFFSETFROM:-0400
TZOFFSETTO:-0500
TZNAME:EST
DTSTART:20261101T060000
END:STANDARD
END:VTIMEZONE
BEGIN:VEVENT
DTSTART;VALUE=DATE:20251107
DTEND;VALUE=DATE:20251110
DTSTAMP:20260420T171213
CREATED:20251020T185953Z
LAST-MODIFIED:20251020T185953Z
UID:10000852-1762473600-1762732799@thinkingoutsidethecage.org
SUMMARY:Pittsburgh Pet Expo
DESCRIPTION:Join Animal Friends at the Pittsburgh Pet Expo! \nMeet your new best friend at the Pittsburgh Pet Expo\, presented by Yinzer Dog Pet Products\, Friday\, November 7 through Sunday November 9\, at the David L. Lawrence Convention Center. \nThis three-day animal extravaganza features rescue organizations\, competitions\, shows\, demonstrations\, giveaways\, hands-on experiences\, 300+ exhibitors and much more. \nCheck out all that’s happening at PGHPetExpo.com. And be sure to stop by our booth and say hello!
URL:https://thinkingoutsidethecage.org/event/pittsburgh-pet-expo/
LOCATION:1000 Fort Duquesne Blvd\, Pittsburgh\, PA 15222\, 1000 Fort Duquesne Blvd\, Pittsburgh\, PA\, 15212\, United States
CATEGORIES:Events
ATTACH;FMTTYPE=image/jpeg:https://thinkingoutsidethecage.org/wp-content/uploads/2025PetExpoGraphic.jpg
END:VEVENT
END:VCALENDAR