BEGIN:VCALENDAR
VERSION:2.0
PRODID:-//Animal Friends - ECPv6.15.20//NONSGML v1.0//EN
CALSCALE:GREGORIAN
METHOD:PUBLISH
X-WR-CALNAME:Animal Friends
X-ORIGINAL-URL:https://thinkingoutsidethecage.org
X-WR-CALDESC:Events for Animal Friends
REFRESH-INTERVAL;VALUE=DURATION:PT1H
X-Robots-Tag:noindex
X-PUBLISHED-TTL:PT1H
BEGIN:VTIMEZONE
TZID:America/New_York
BEGIN:DAYLIGHT
TZOFFSETFROM:-0500
TZOFFSETTO:-0400
TZNAME:EDT
DTSTART:20250309T070000
END:DAYLIGHT
BEGIN:STANDARD
TZOFFSETFROM:-0400
TZOFFSETTO:-0500
TZNAME:EST
DTSTART:20251102T060000
END:STANDARD
BEGIN:DAYLIGHT
TZOFFSETFROM:-0500
TZOFFSETTO:-0400
TZNAME:EDT
DTSTART:20260308T070000
END:DAYLIGHT
BEGIN:STANDARD
TZOFFSETFROM:-0400
TZOFFSETTO:-0500
TZNAME:EST
DTSTART:20261101T060000
END:STANDARD
BEGIN:DAYLIGHT
TZOFFSETFROM:-0500
TZOFFSETTO:-0400
TZNAME:EDT
DTSTART:20270314T070000
END:DAYLIGHT
BEGIN:STANDARD
TZOFFSETFROM:-0400
TZOFFSETTO:-0500
TZNAME:EST
DTSTART:20271107T060000
END:STANDARD
END:VTIMEZONE
BEGIN:VEVENT
DTSTART;VALUE=DATE:20260401
DTEND;VALUE=DATE:20260421
DTSTAMP:20260421T112446
CREATED:20260401T142834Z
LAST-MODIFIED:20260401T142834Z
UID:10000967-1775001600-1776729599@thinkingoutsidethecage.org
SUMMARY:Best of the Burgh Voting!
DESCRIPTION:It’s go time—Best of the ’Burgh voting is officially OPEN\, and every single vote counts! \nNow through April 20\, there’s a limited window to help Animal Friends bring home top honors… and we need your support today! \nWe’re proudly nominated for: \n\nCamp for Kids\nDog Park – Animal Friends Play Yard\nAntique & Repurposed Stores – Animal Friends ReSale Store\nPet Services\nVeterinarian\n\nDon’t wait—rally your friends\, family\, coworkers (and fellow animal lovers!) and cast your votes now. \nThe competition is fierce\, and your vote could be the one that makes the difference. \nVote now at: https://www.pittsburghmagazine.com/its-time-to-vote-for-your-favorites-for-best-of-the-burgh/#//
URL:https://thinkingoutsidethecage.org/event/best-of-the-burgh-voting/
CATEGORIES:Events
ATTACH;FMTTYPE=image/jpeg:https://thinkingoutsidethecage.org/wp-content/uploads/SM-Graphic_voting-01.jpg
END:VEVENT
BEGIN:VEVENT
DTSTART;TZID=America/New_York:20260403T150000
DTEND;TZID=America/New_York:20260403T170000
DTSTAMP:20260421T112446
CREATED:20251121T180730Z
LAST-MODIFIED:20251121T180730Z
UID:10000862-1775228400-1775235600@thinkingoutsidethecage.org
SUMMARY:On-Site Vaccine Clinic
DESCRIPTION:We are hosting an On-Site Vaccine Clinic on Friday\, April 3\, from 3 p.m. to 5 p.m. at our Animal Wellness Center (Building 2). \nPlease note there will be an administration fee of $15 per pet in addition to the cost of the vaccines. \nServices Offered: \nRabies – $20 \nFVRCP – $20 \nFeLV– $20 \nDAPP – $20 \nLepto – $20 \nLyme – $25 \nBordetella – $20 \nNo sign-up necessary. A copy of an up-to-date rabies vaccination must be provided otherwise\, the Rabies vaccine will need to be administered. Please note that a Rabies tag does not count as proof of vaccination. Questions? Call 412.847.7004
URL:https://thinkingoutsidethecage.org/event/on-site-vaccine-clinic-15/
CATEGORIES:Vaccine Clinics
ATTACH;FMTTYPE=image/jpeg:https://thinkingoutsidethecage.org/wp-content/uploads/Onsite-Community-Vax-Clinic-Flyer-4.3.26.jpg
END:VEVENT
END:VCALENDAR