BEGIN:VCALENDAR
VERSION:2.0
PRODID:-//Animal Friends - ECPv6.15.20//NONSGML v1.0//EN
CALSCALE:GREGORIAN
METHOD:PUBLISH
X-ORIGINAL-URL:https://thinkingoutsidethecage.org
X-WR-CALDESC:Events for Animal Friends
REFRESH-INTERVAL;VALUE=DURATION:PT1H
X-Robots-Tag:noindex
X-PUBLISHED-TTL:PT1H
BEGIN:VTIMEZONE
TZID:America/New_York
BEGIN:DAYLIGHT
TZOFFSETFROM:-0500
TZOFFSETTO:-0400
TZNAME:EDT
DTSTART:20250309T070000
END:DAYLIGHT
BEGIN:STANDARD
TZOFFSETFROM:-0400
TZOFFSETTO:-0500
TZNAME:EST
DTSTART:20251102T060000
END:STANDARD
BEGIN:DAYLIGHT
TZOFFSETFROM:-0500
TZOFFSETTO:-0400
TZNAME:EDT
DTSTART:20260308T070000
END:DAYLIGHT
BEGIN:STANDARD
TZOFFSETFROM:-0400
TZOFFSETTO:-0500
TZNAME:EST
DTSTART:20261101T060000
END:STANDARD
BEGIN:DAYLIGHT
TZOFFSETFROM:-0500
TZOFFSETTO:-0400
TZNAME:EDT
DTSTART:20270314T070000
END:DAYLIGHT
BEGIN:STANDARD
TZOFFSETFROM:-0400
TZOFFSETTO:-0500
TZNAME:EST
DTSTART:20271107T060000
END:STANDARD
END:VTIMEZONE
BEGIN:VEVENT
DTSTART;TZID=America/New_York:20260327T120000
DTEND;TZID=America/New_York:20260330T200000
DTSTAMP:20260422T172612
CREATED:20260317T184634Z
LAST-MODIFIED:20260326T131956Z
UID:10000963-1774612800-1774900800@thinkingoutsidethecage.org
SUMMARY:Second Chance - Steel City Auction
DESCRIPTION:The Second Chance Auction is coming up\, Friday March 27! \nThis is your SECOND chance to score some incredible deals from companies all across Pittsburgh — and support a mission that saves lives. \nMark your calendars for March 27 –30! \nhttps://e.givesmart.com/events/Ohv/ \nStay tuned and spread the word as we get ready to bid big for a great cause.
URL:https://thinkingoutsidethecage.org/event/second-chance-steel-city-auction/
CATEGORIES:Events
ATTACH;FMTTYPE=image/jpeg:https://thinkingoutsidethecage.org/wp-content/uploads/Auction-Graphics_secondchance-03.jpg
END:VEVENT
END:VCALENDAR