BEGIN:VCALENDAR
VERSION:2.0
PRODID:-//Animal Friends - ECPv6.15.20//NONSGML v1.0//EN
CALSCALE:GREGORIAN
METHOD:PUBLISH
X-ORIGINAL-URL:https://thinkingoutsidethecage.org
X-WR-CALDESC:Events for Animal Friends
REFRESH-INTERVAL;VALUE=DURATION:PT1H
X-Robots-Tag:noindex
X-PUBLISHED-TTL:PT1H
BEGIN:VTIMEZONE
TZID:America/New_York
BEGIN:DAYLIGHT
TZOFFSETFROM:-0500
TZOFFSETTO:-0400
TZNAME:EDT
DTSTART:20250309T070000
END:DAYLIGHT
BEGIN:STANDARD
TZOFFSETFROM:-0400
TZOFFSETTO:-0500
TZNAME:EST
DTSTART:20251102T060000
END:STANDARD
BEGIN:DAYLIGHT
TZOFFSETFROM:-0500
TZOFFSETTO:-0400
TZNAME:EDT
DTSTART:20260308T070000
END:DAYLIGHT
BEGIN:STANDARD
TZOFFSETFROM:-0400
TZOFFSETTO:-0500
TZNAME:EST
DTSTART:20261101T060000
END:STANDARD
BEGIN:DAYLIGHT
TZOFFSETFROM:-0500
TZOFFSETTO:-0400
TZNAME:EDT
DTSTART:20270314T070000
END:DAYLIGHT
BEGIN:STANDARD
TZOFFSETFROM:-0400
TZOFFSETTO:-0500
TZNAME:EST
DTSTART:20271107T060000
END:STANDARD
END:VTIMEZONE
BEGIN:VEVENT
DTSTART;VALUE=DATE:20260305
DTEND;VALUE=DATE:20260308
DTSTAMP:20260420T000911
CREATED:20260304T210441Z
LAST-MODIFIED:20260305T144526Z
UID:10000958-1772668800-1772927999@thinkingoutsidethecage.org
SUMMARY:March Muttness - Round 1
DESCRIPTION:We did it… we’re officially in the FIRST round of March Muttness! \nThe competition tips off Thursday\, March 5 at 11 a.m.\, and we’re ready to bring the bark to the bracket. \nKeep an eye out for the new donation link so you can help us make our next big play! \nEvery dollar you give helps save lives — and pushes us closer to Round 2. \nLet’s show everyone how Animal Friends team rallies! \nMake your donation between March 5 through March 7\, here https://app.tournaments.donorcharm.org/campaign/Telethon/ZeaEZ 
URL:https://thinkingoutsidethecage.org/event/march-muttness-round-1/
CATEGORIES:Events
ATTACH;FMTTYPE=image/jpeg:https://thinkingoutsidethecage.org/wp-content/uploads/Tiny-Tim-graphic.jpg
END:VEVENT
BEGIN:VEVENT
DTSTART;TZID=America/New_York:20260306T150000
DTEND;TZID=America/New_York:20260306T170000
DTSTAMP:20260420T000911
CREATED:20251121T180614Z
LAST-MODIFIED:20251121T180614Z
UID:10000861-1772809200-1772816400@thinkingoutsidethecage.org
SUMMARY:On-Site Vaccine Clinic
DESCRIPTION:We are hosting an On-Site Vaccine Clinic on Friday\, March 6\, from 3 p.m. to 5 p.m. at our Animal Wellness Center (Building 2). \nPlease note there will be an administration fee of $15 per pet in addition to the cost of the vaccines. \nServices Offered: \nRabies – $20 \nFVRCP – $20 \nFeLV– $20 \nDAPP – $20 \nLepto – $20 \nLyme – $25 \nBordetella – $20 \nNo sign-up necessary. A copy of an up-to-date rabies vaccination must be provided otherwise\, the Rabies vaccine will need to be administered. Please note that a Rabies tag does not count as proof of vaccination. Questions? Call 412.847.7004
URL:https://thinkingoutsidethecage.org/event/on-site-vaccine-clinic-14/
CATEGORIES:Vaccine Clinics
ATTACH;FMTTYPE=image/jpeg:https://thinkingoutsidethecage.org/wp-content/uploads/Onsite-Community-Vax-Clinic-Flyer-3.6.26.jpg
END:VEVENT
END:VCALENDAR