BEGIN:VCALENDAR
VERSION:2.0
PRODID:-//Animal Friends - ECPv6.15.20//NONSGML v1.0//EN
CALSCALE:GREGORIAN
METHOD:PUBLISH
X-ORIGINAL-URL:https://thinkingoutsidethecage.org
X-WR-CALDESC:Events for Animal Friends
REFRESH-INTERVAL;VALUE=DURATION:PT1H
X-Robots-Tag:noindex
X-PUBLISHED-TTL:PT1H
BEGIN:VTIMEZONE
TZID:America/New_York
BEGIN:DAYLIGHT
TZOFFSETFROM:-0500
TZOFFSETTO:-0400
TZNAME:EDT
DTSTART:20240310T070000
END:DAYLIGHT
BEGIN:STANDARD
TZOFFSETFROM:-0400
TZOFFSETTO:-0500
TZNAME:EST
DTSTART:20241103T060000
END:STANDARD
BEGIN:DAYLIGHT
TZOFFSETFROM:-0500
TZOFFSETTO:-0400
TZNAME:EDT
DTSTART:20250309T070000
END:DAYLIGHT
BEGIN:STANDARD
TZOFFSETFROM:-0400
TZOFFSETTO:-0500
TZNAME:EST
DTSTART:20251102T060000
END:STANDARD
BEGIN:DAYLIGHT
TZOFFSETFROM:-0500
TZOFFSETTO:-0400
TZNAME:EDT
DTSTART:20260308T070000
END:DAYLIGHT
BEGIN:STANDARD
TZOFFSETFROM:-0400
TZOFFSETTO:-0500
TZNAME:EST
DTSTART:20261101T060000
END:STANDARD
END:VTIMEZONE
BEGIN:VEVENT
DTSTART;VALUE=DATE:20251203
DTEND;VALUE=DATE:20251208
DTSTAMP:20260425T095533
CREATED:20251201T180133Z
LAST-MODIFIED:20251203T170340Z
UID:10000872-1764720000-1765151999@thinkingoutsidethecage.org
SUMMARY:Giving Week 1: Rabbits
DESCRIPTION:Giving Weeks at Animal Friends: A Different Way to Make a Difference \nThis holiday season\, we’re inviting our compassionate community to join us for Giving Weeks—a multi-week celebration of generosity\, where each week highlights a different species or department that plays a vital role in caring for the animals who rely on us from December 3rd to January 2nd. \nEvery week brings a new opportunity to support a specific area of need\, ensuring that every rabbit\, cat\, dog\, and more receives the comfort\, enrichment\, and care they deserve. \nWeekly Giving Focus: \nWeek 1: RabbitsHelp us hop into the season by supporting our smallest (and often most overlooked) furry friends. Donations this week will provide essential supplies like hay\, pellets\, enrichment toys\, and habitat upgrades. \nListed below are a few items that our residents rabbits would enjoy: \nWooden Chewing Treats  \nOxbow Essentials Young Rabbit Food \nOxbow Essentials Adult Rabbit Food \n Timothy Hay \nAlfalfa Hay \nOrchard Grass Hay \nOnce you have donated\, please fill out this form to enter to win a delicious Sarris Chocolate Basket. One free entry per donor. Runs Dec 3\, 2025 – Jan 3\, 2026. One winner will be pulled on Jan 5\, 2026.
URL:https://thinkingoutsidethecage.org/event/giving-week-1-rabbits/
CATEGORIES:Events
ATTACH;FMTTYPE=image/jpeg:https://thinkingoutsidethecage.org/wp-content/uploads/Giving-Weeks-01-scaled.jpg
END:VEVENT
BEGIN:VEVENT
DTSTART;TZID=America/New_York:20251203T110000
DTEND;TZID=America/New_York:20251203T120000
DTSTAMP:20260425T095533
CREATED:20250820T155332Z
LAST-MODIFIED:20260209T194139Z
UID:10000839-1764759600-1764763200@thinkingoutsidethecage.org
SUMMARY:Small Dog Social
DESCRIPTION:For dogs 4 months or older that are both people- and dog-friendly. \n\nJoin other small dogs and their people for an hour of social time. Dog play increases social skills and provides lots of exercise and fun for the small dog crowd!   \nWe define “small” dog as approximately 35 pounds or less. Also\, consider your dog’s personality in choosing to attend dog social. Group play can be overwhelming or overstimulating for some dogs.  \nRequirements: No pre-registration. Bring vaccination records showing up-to-date DHPP and rabies. Bordetella is strongly recommended for your dog’s protection but not required.  \nTuition: $10 per dog (max $20 per family) per visit – humans are free!  \nSpecial Offer: Buy four socials and get the fifth one free!   \nAny questions\, please contact Donna at AFU@ThinkingOutsideTheCage.org.
URL:https://thinkingoutsidethecage.org/event/small-dog-social-5/2025-12-03/
LOCATION:Animal Friends Outreach\, 562 CAMP HORNE RD\, Building 1\, PITTSBURGH\, PA\, 15237\, United States
CATEGORIES:Dog Socials
ATTACH;FMTTYPE=image/jpeg:https://thinkingoutsidethecage.org/wp-content/uploads/smalldogsocial-e1737053217118.jpg
END:VEVENT
END:VCALENDAR